BEGIN:VCALENDAR
VERSION:2.0
PRODID:-//Library Market//iCal Export//EN
BEGIN:VEVENT
SUMMARY:Zonta
UID:21475
DTSTAMP:20260423T032300Z
DTSTART:20260608T210000Z
DTEND:20260608T233000Z
LOCATION:4335 Park Ave, Ashtabula, OH 44004, United States
ROOM: Ashtabula Foundation Room (Ashtabula)
DESCRIPTION:General Meeting
URL:https://www.acdl.info/event/zonta-21475
END:VEVENT
END:VCALENDAR
