BEGIN:VCALENDAR
VERSION:2.0
PRODID:-//Library Market//iCal Export//EN
BEGIN:VEVENT
SUMMARY:2nd Annual Holiday Bingo &amp; Jingle Bell Bash!
UID:21469
DTSTAMP:20260423T213600Z
DTSTART:20261212T150000Z
DTEND:20261212T190000Z
LOCATION:4335 Park Ave, Ashtabula, OH 44004, United States
ROOM: Combined Foundation Rooms
DESCRIPTION:2nd Annual Holiday Bingo and Jingle Bell Bash!Holiday Bingo fo
 r kids and teens ages 5-18.  Bring a prize to participate.  After Bingo 
 we will have food, crafts, games, and Santa!  Children under 8 must have 
 an adult chaperone.Register for Bingo if you want to play (ages 5-18) and 
 bring a prize to share.  The party is free and is open to everyone!Schedu
 le of Events:10:00a.m. Holiday Bingo (Pre-registration Required)12:00 Craf
 ts, snacks, Santa and more!\
URL:https://www.acdl.info/event/2nd-annual-holiday-bingo-jingle-bell-bash-
 21469
END:VEVENT
END:VCALENDAR
