BEGIN:VCALENDAR
VERSION:2.0
PRODID:-//Library Market//iCal Export//EN
BEGIN:VEVENT
SUMMARY:Fortnightly Book Club
UID:21468
DTSTAMP:20260422T213200Z
DTSTART:20260608T170000Z
DTEND:20260608T190000Z
LOCATION:4335 Park Ave, Ashtabula, OH 44004, United States
ROOM: Ethel McDowell&#039;s Reading Room
DESCRIPTION:
URL:https://www.acdl.info/event/fortnightly-book-club-21468
END:VEVENT
END:VCALENDAR
