BEGIN:VCALENDAR
VERSION:2.0
PRODID:-//Library Market//iCal Export//EN
BEGIN:VEVENT
SUMMARY:Fortnightly Book Club
UID:21467
DTSTAMP:20260422T230700Z
DTSTART:20261123T180000Z
DTEND:20261123T200000Z
LOCATION:4335 Park Ave, Ashtabula, OH 44004, United States
ROOM: Robert S Morrison Foundation Room (Ashtabula)
DESCRIPTION:
URL:https://www.acdl.info/event/fortnightly-book-club-21467
END:VEVENT
END:VCALENDAR
