BEGIN:VCALENDAR
VERSION:2.0
PRODID:-//Library Market//iCal Export//EN
BEGIN:VEVENT
SUMMARY:Fortnightly Book Club
UID:21465
DTSTAMP:20260422T234200Z
DTSTART:20261026T170000Z
DTEND:20261026T190000Z
LOCATION:4335 Park Ave, Ashtabula, OH 44004, United States
ROOM: Robert S Morrison Foundation Room (Ashtabula)
DESCRIPTION:
URL:https://www.acdl.info/event/fortnightly-book-club-21465
END:VEVENT
END:VCALENDAR
