BEGIN:VCALENDAR
VERSION:2.0
PRODID:-//Library Market//iCal Export//EN
BEGIN:VEVENT
SUMMARY:Studio Workshop for Seniors - Fairy Bottles
UID:21461
DTSTAMP:20260422T230700Z
DTSTART:20260624T153000Z
DTEND:20260624T163000Z
LOCATION:860 Sherman St., Geneva, OH 44041, United States
ROOM: The Studio
DESCRIPTION:Come learn about the Glowforge CO2 laser engraver. In this wor
 kshop you will get to design stencils and use etching cream and paint to m
 ake a fairy in a bottle.  
URL:https://www.acdl.info/event/studio-workshop-seniors-fairy-bottles-2146
 1
END:VEVENT
END:VCALENDAR
