BEGIN:VCALENDAR
VERSION:2.0
PRODID:-//Library Market//iCal Export//EN
BEGIN:VEVENT
SUMMARY:Fortnightly Book Club
UID:21460
DTSTAMP:20260423T012100Z
DTSTART:20260817T170000Z
DTEND:20260817T190000Z
LOCATION:4335 Park Ave, Ashtabula, OH 44004, United States
ROOM: Robert S Morrison Foundation Room (Ashtabula)
DESCRIPTION:
URL:https://www.acdl.info/event/fortnightly-book-club-21460
END:VEVENT
END:VCALENDAR
