BEGIN:VCALENDAR
VERSION:2.0
PRODID:-//Library Market//iCal Export//EN
BEGIN:VEVENT
SUMMARY:Studio Workshop - Fairy Bottles
UID:21458
DTSTAMP:20260422T213200Z
DTSTART:20260616T203000Z
DTEND:20260616T213000Z
LOCATION:860 Sherman St., Geneva, OH 44041, United States
ROOM: The Studio
DESCRIPTION:Come learn about the Glowforge CO2 laser engraver. In this wor
 kshop you will get to design stencils and use etching cream and paint to m
 ake a fairy in a bottle.  
URL:https://www.acdl.info/event/studio-workshop-fairy-bottles-21458
END:VEVENT
END:VCALENDAR
