BEGIN:VCALENDAR
VERSION:2.0
PRODID:-//Library Market//iCal Export//EN
BEGIN:VEVENT
SUMMARY:Fortnightly Book Club
UID:21455
DTSTAMP:20260422T221500Z
DTSTART:20260706T170000Z
DTEND:20260706T190000Z
LOCATION:4335 Park Ave, Ashtabula, OH 44004, United States
ROOM: Robert S Morrison Foundation Room (Ashtabula)
DESCRIPTION:
URL:https://www.acdl.info/event/fortnightly-book-club-21455
END:VEVENT
END:VCALENDAR
