BEGIN:VCALENDAR
VERSION:2.0
PRODID:-//Library Market//iCal Export//EN
BEGIN:VEVENT
SUMMARY:Studio Workshop for Kids - Father&#039;s Day Mugs
UID:21454
DTSTAMP:20260422T215000Z
DTSTART:20260606T173000Z
DTEND:20260606T183000Z
LOCATION:860 Sherman St., Geneva, OH 44041, United States
ROOM: The Studio
DESCRIPTION:Come learn about the Sublimation Printer and Heat press. In th
 is workshop you will get to design and create a very special mug for someo
 ne in your life who is equally as special. 
URL:https://www.acdl.info/event/studio-workshop-kids-fathers-day-mugs-2145
 4
END:VEVENT
END:VCALENDAR
