BEGIN:VCALENDAR
VERSION:2.0
PRODID:-//Library Market//iCal Export//EN
BEGIN:VEVENT
SUMMARY:Studio Workshop for Seniors - Mini Checkerboard
UID:21453
DTSTAMP:20260422T213200Z
DTSTART:20260610T153000Z
DTEND:20260610T163000Z
LOCATION:860 Sherman St., Geneva, OH 44041, United States
ROOM: The Studio
DESCRIPTION:Come learn about the Glowforge CO2 laser engraver. In this wor
 kshop you will get to design and pain your wooden mini checkerboard. 
URL:https://www.acdl.info/event/studio-workshop-seniors-mini-checkerboard-
 21453
END:VEVENT
END:VCALENDAR
