BEGIN:VCALENDAR
VERSION:2.0
PRODID:-//Library Market//iCal Export//EN
BEGIN:VEVENT
SUMMARY:Ashtabula County Historical Society
UID:21403
DTSTAMP:20260421T121200Z
DTSTART:20260422T223000Z
DTEND:20260423T000000Z
LOCATION:4335 Park Ave, Ashtabula, OH 44004, United States
ROOM: Ashtabula Foundation Room (Ashtabula)
DESCRIPTION:
URL:https://www.acdl.info/event/ashtabula-county-historical-society-21403
END:VEVENT
END:VCALENDAR
