BEGIN:VCALENDAR
VERSION:2.0
PRODID:-//Library Market//iCal Export//EN
BEGIN:VEVENT
SUMMARY:AARP TAX-AIDE - BY APPOINTMENT ONLY
UID:21384
DTSTAMP:20260420T194300Z
DTSTART:20270219T150000Z
DTEND:20270219T200000Z
LOCATION:4335 Park Ave, Ashtabula, OH 44004, United States
ROOM: Combined Foundation Rooms
DESCRIPTION:AARP Tax-Aide Service  - Available by appointment only.After 
 January 3, 2027, stop by the Ashtabula Public Library front desk to pick u
 p an information packet and set your appointment.Appointments are availabl
 e on a first-come-first-served basis and the service is free to the public
 .For more information email taxaide@aarp.org or call toll free 1-888-227-7
 669.Free Tax Preparation From AARP Foundation Tax-Aide
URL:https://www.acdl.info/event/aarp-tax-aide-21384
END:VEVENT
END:VCALENDAR
