BEGIN:VCALENDAR
VERSION:2.0
PRODID:-//Library Market//iCal Export//EN
BEGIN:VEVENT
SUMMARY:Ashtabula Area City Schools
UID:21365
DTSTAMP:20260419T231900Z
DTSTART:20260529T190000Z
DTEND:20260529T203000Z
LOCATION:4335 Park Ave, Ashtabula, OH 44004, United States
ROOM: Ashtabula Foundation Room (Ashtabula)
DESCRIPTION:
URL:https://www.acdl.info/event/ashtabula-area-city-schools-21365
END:VEVENT
END:VCALENDAR
