BEGIN:VCALENDAR
VERSION:2.0
PRODID:-//Library Market//iCal Export//EN
BEGIN:VEVENT
SUMMARY:AARP Training
UID:21359
DTSTAMP:20260420T231300Z
DTSTART:20260908T153000Z
DTEND:20260908T173000Z
LOCATION:4335 Park Ave, Ashtabula, OH 44004, United States
ROOM: Combined Foundation Rooms
DESCRIPTION:Group Training for AARP
URL:https://www.acdl.info/event/copy-aarp-training-21359
END:VEVENT
END:VCALENDAR
