BEGIN:VCALENDAR
VERSION:2.0
PRODID:-//Library Market//iCal Export//EN
BEGIN:VEVENT
SUMMARY:AARP Training
UID:21358
DTSTAMP:20260420T231300Z
DTSTART:20260908T140000Z
DTEND:20260908T150000Z
LOCATION:860 Sherman St., Geneva, OH 44041, United States
ROOM: Robert S Morrison Foundation Community Room (Geneva)
DESCRIPTION:Group Training for AARP
URL:https://www.acdl.info/event/aarp-training-21358
END:VEVENT
END:VCALENDAR
