BEGIN:VCALENDAR
VERSION:2.0
PRODID:-//Library Market//iCal Export//EN
BEGIN:VEVENT
SUMMARY:Homeschool Activity Group
UID:21333
DTSTAMP:20260419T154700Z
DTSTART:20260423T140000Z
DTEND:20260423T160000Z
LOCATION:4335 Park Ave, Ashtabula, OH 44004, United States
ROOM: Ashtabula Foundation Room (Ashtabula)
DESCRIPTION:
URL:https://www.acdl.info/event/homeschool-activity-group-21333
END:VEVENT
END:VCALENDAR
