BEGIN:VCALENDAR
VERSION:2.0
PRODID:-//Library Market//iCal Export//EN
BEGIN:VEVENT
SUMMARY:Fornightly Book Club
UID:17859
DTSTAMP:20260420T061300Z
DTSTART:20260622T170000Z
DTEND:20260622T190000Z
LOCATION:860 Sherman St., Geneva, OH 44041, United States
ROOM: Robert S Morrison Foundation Community Room (Geneva)
DESCRIPTION:Regular meeting of Fortnightly Book Club.Club members will tak
 e a tour of the library space at 12 pm and then have regular meeting start
 ing at 1 pm in the Robert S. Morrison 
URL:https://www.acdl.info/event/fornightly-book-club-17859
END:VEVENT
END:VCALENDAR
